BEGIN:VCALENDAR
VERSION:2.0
PRODID:icalendar-ruby
CALSCALE:GREGORIAN
METHOD:PUBLISH
BEGIN:VEVENT
DTSTAMP:20260422T071503Z
UID:13-301164@sothneb.org
DTSTART:20260820T030000Z
DTEND:20260820T040000Z
CLASS:PUBLIC
CREATED:20260421T180525
DESCRIPTION:EPIC Night
LAST-MODIFIED:20260421T180525
LOCATION:
SUMMARY:EPIC Night
URL;VALUE=URI:https://sothneb.org/events/epic-night/2026-08-19
END:VEVENT
END:VCALENDAR
