BEGIN:VCALENDAR
VERSION:2.0
PRODID:icalendar-ruby
CALSCALE:GREGORIAN
METHOD:PUBLISH
BEGIN:VEVENT
DTSTAMP:20260422T033401Z
UID:13-301162@sothneb.org
DTSTART:20260806T030000Z
DTEND:20260806T040000Z
CLASS:PUBLIC
CREATED:20260421T180525
DESCRIPTION:EPIC Night
LAST-MODIFIED:20260421T180525
LOCATION:
SUMMARY:EPIC Night
URL;VALUE=URI:https://sothneb.org/events/epic-night/2026-08-05
END:VEVENT
END:VCALENDAR
